BEGIN:VCALENDAR
VERSION:2.0
PRODID:-//hacksw/handcal//NONSGML v1.0//EN
CALSCALE:GREGORIAN
BEGIN:VEVENT
UID:4
DTSTAMP:20260422T092705Z
DESCRIPTION:5. Juni
DTSTART;VALUE=DATE;VALUE=DATE:20250604
LOCATION:Av. João XXI\, 78\, R/C Esq \, 1000-304 Lissabon
SUMMARY:Portugiesisches Internet Governance Forum 2025 – 5. Juni in Lissabon
URL;VALUE=URI:https://www.consultdomain.de/events/portugiesisches-internet-governance-forum-2025-5-juni-in-lissabon.4/
END:VEVENT
BEGIN:VEVENT
UID:2
DTSTAMP:20260422T092705Z
DESCRIPTION:9.–12. Juni
DTSTART;VALUE=DATE;VALUE=DATE:20250608
LOCATION:Prague Congress Centre\, 5. května\, Prague 4-Nusle\, Czechia
SUMMARY:ICANN83 Policy Forum – 9.–12. Juni\, Prag
URL;VALUE=URI:https://www.consultdomain.de/events/icann83-policy-forum-9-12-juni-prag.2/
END:VEVENT
BEGIN:VEVENT
UID:5
DTSTAMP:20260422T092705Z
DESCRIPTION:20.06.2025
DTSTART:20250620T170000Z
DTEND:20250620T200000Z
LOCATION:Hoheluftchaussee 2\, 20253 Hamburg\, Hamburg-Nord\, Germany
SUMMARY:Sommerstammtisch 2025 - 20.06.2025\, Hamburg
URL;VALUE=URI:https://www.consultdomain.de/events/sommerstammtisch-2025-20-06-2025-hamburg.5/
END:VEVENT
BEGIN:VEVENT
UID:1
DTSTAMP:20260422T092705Z
DESCRIPTION:25/26 June\, Frankfurt
DTSTART;VALUE=DATE;VALUE=DATE:20250624
LOCATION:Union Halle\, Hanauer Landstraße\, Frankfurt am Main-Bornheim/Ostend\, Germany
SUMMARY:InterNetX Domain Summit 2025 - 25/26 June\, Frankfurt
URL;VALUE=URI:https://www.consultdomain.de/events/internetx-domain-summit-2025-25-26-june-frankfurt.1/
END:VEVENT
BEGIN:VEVENT
UID:3
DTSTAMP:20260422T092705Z
DESCRIPTION:2.–3. September 2025 | Business Design Centre\, London
DTSTART;VALUE=DATE;VALUE=DATE:20250901
LOCATION:Business Design Centre\, Business Design Centre Ltd\, Upper Street\, London\, UK
SUMMARY:Domain Summit Europe 2025 - 2.–3. September\, London
URL;VALUE=URI:https://www.consultdomain.de/events/domain-summit-europe-2025-2-3-september-london.3/
END:VEVENT
BEGIN:VEVENT
UID:9
DTSTAMP:20260422T092705Z
DESCRIPTION:25.–30. Oktober 2025
DTSTART;VALUE=DATE;VALUE=DATE:20251024
LOCATION:The Convention Centre Dublin\, North Wall Quay\, North Wall\, Dublin 1\, Ireland
SUMMARY:ICANN84 Jahreshauptversammlung - 25.–30. Oktober 2025\, Dublin\, Irland
URL;VALUE=URI:https://www.consultdomain.de/events/icann84-jahreshauptversammlung-25-30-oktober-2025-dublin-irland.9/
END:VEVENT
BEGIN:VEVENT
UID:6
DTSTAMP:20260422T092705Z
DESCRIPTION:November 17-18
DTSTART;VALUE=DATE;VALUE=DATE:20251116
LOCATION:88 Wing Lok Street\, Sheung Wan\, Hong Kong
SUMMARY:Domain Summit Asia 2025\, Hong Kong – November 17-18
URL;VALUE=URI:https://www.consultdomain.de/events/domain-summit-asia-2025-hong-kong-november-17-18.6/
END:VEVENT
BEGIN:VEVENT
UID:7
DTSTAMP:20260422T092705Z
DESCRIPTION:4. und 5. Februar 2026
DTSTART;VALUE=DATE;VALUE=DATE:20260203
LOCATION:SQUARE at the University of St.Gallen (Building 11)\, Guisanstrasse 20\, 9010 St. Gallen\, Switzerland
SUMMARY:Domain pulse 2026 - 4. und 5. Februar 2026
URL;VALUE=URI:https://www.consultdomain.de/events/domain-pulse-2026-4-und-5-februar-2026.7/
END:VEVENT
BEGIN:VEVENT
UID:10
DTSTAMP:20260422T092705Z
DESCRIPTION:22.–24. Februar 2026
DTSTART;VALUE=DATE;VALUE=DATE:20260223
LOCATION:Villa Rosa Kempinski\, Chiromo Road\, Nairobi\, Kenya
SUMMARY:Domain Summit Africa 2026 - 22.–24. Februar 2026\, Nairobi\, Kenya
URL;VALUE=URI:https://www.consultdomain.de/events/domain-summit-africa-2026-22-24-februar-2026-nairobi-kenya.10/
END:VEVENT
BEGIN:VEVENT
UID:11
DTSTAMP:20260422T092705Z
DESCRIPTION:23.–26. März 2026
DTSTART;VALUE=DATE;VALUE=DATE:20260322
LOCATION:Europa-Park\, Europa-Park-Straße\, Rust\, Germany
SUMMARY:CloudFest 2026 - 23.–26. März 2026
URL;VALUE=URI:https://www.consultdomain.de/events/cloudfest-2026-23-26-maerz-2026.11/
END:VEVENT
BEGIN:VEVENT
UID:16
DTSTAMP:20260422T092705Z
DESCRIPTION:27. März 2026
DTSTART;VALUE=DATE;VALUE=DATE:20260326
LOCATION:31 Rue Jean Wenger - Valentin\, 67000 Strasbourg\, France
SUMMARY:NDDCamp Strasbourg (Elsass) — 27. März 2026
URL;VALUE=URI:https://www.consultdomain.de/events/nddcamp-strasbourg-elsass-27-maerz-2026.16/
END:VEVENT
BEGIN:VEVENT
UID:20
DTSTAMP:20260422T092705Z
DESCRIPTION:27. April 2026
DTSTART;VALUE=DATE;VALUE=DATE:20260426
LOCATION:Mona Plaza\, Cara Uroša 62-64\, Belgrade\, Serbia
SUMMARY:Schutz des geistigen Eigentums im digitalen Umfeld - 27. April 2026 - Belgrad\, Serbien
URL;VALUE=URI:https://www.consultdomain.de/events/schutz-des-geistigen-eigentums-im-digitalen-umfeld-27-april-2026-belgrad-serbien.20/
END:VEVENT
BEGIN:VEVENT
UID:19
DTSTAMP:20260422T092705Z
DESCRIPTION:27.–29. April 2026
DTSTART;VALUE=DATE;VALUE=DATE:20260426
LOCATION:Kimpton Clocktower Hotel\, Oxford Street\, Manchester\, UK
SUMMARY:ICANN Contracted Parties Summit 2026 (Manchester)
URL;VALUE=URI:https://www.consultdomain.de/events/icann-contracted-parties-summit-2026-manchester.19/
END:VEVENT
BEGIN:VEVENT
UID:23
DTSTAMP:20260422T092705Z
DESCRIPTION:19.-20. Mai 2026
DTSTART;VALUE=DATE;VALUE=DATE:20260519
LOCATION:Squarespace\, Clarkson Street\, New York\, NY\, USA
SUMMARY:ICA NYC 2026 - 19.-20. Mai 2026\, New York
URL;VALUE=URI:https://www.consultdomain.de/events/ica-nyc-2026-19-20-mai-2026-new-york.23/
END:VEVENT
BEGIN:VEVENT
UID:8
DTSTAMP:20260422T092705Z
DESCRIPTION:24.–26. Mai 2026
DTSTART;VALUE=DATE;VALUE=DATE:20260523
LOCATION:Clarion Hotel Stockholm\, Ringvägen\, Stockholm\, Sweden
SUMMARY:Nordic Domain Days 2026 - 24.–26. Mai 2026\, Stockholm\, Schweden
URL;VALUE=URI:https://www.consultdomain.de/events/nordic-domain-days-2026-24-26-mai-2026-stockholm-schweden.8/
END:VEVENT
BEGIN:VEVENT
UID:18
DTSTAMP:20260422T092705Z
DESCRIPTION:26.–27. Mai 2026
DTSTART;VALUE=DATE;VALUE=DATE:20260525
LOCATION:European Commission Charlemagne building (CHAR)\, Rue de la Loi\, Brussels\, Belgium
SUMMARY:EuroDIG 2026 (European Dialogue on Internet Governance) - 26.–27. Mai 2026  - Brüssel\, Belgien
URL;VALUE=URI:https://www.consultdomain.de/events/eurodig-2026-european-dialogue-on-internet-governance-26-27-mai-2026-bruessel-belgien.18/
END:VEVENT
BEGIN:VEVENT
UID:21
DTSTAMP:20260422T092705Z
DESCRIPTION:17.-18. August 2026
DTSTART;VALUE=DATE;VALUE=DATE:20260815
LOCATION:Rathausstraße 2\, 87435 Kempten (Allgäu)\, Germany
SUMMARY:Domain Summit Europe 2026 - August 17-18\, 2026 - Kempten\, Germany
URL;VALUE=URI:https://www.consultdomain.de/events/domain-summit-europe-2026-august-17-18-2026-kempten-germany.21/
END:VEVENT
BEGIN:VEVENT
UID:14
DTSTAMP:20260422T092705Z
DESCRIPTION:11-09-2026
DTSTART;VALUE=DATE;VALUE=DATE:20260910
LOCATION:Paris\, France
SUMMARY:NDD Camp Paris
URL;VALUE=URI:https://www.consultdomain.de/events/ndd-camp-paris.14/
END:VEVENT
BEGIN:VEVENT
UID:17
DTSTAMP:20260422T092705Z
DESCRIPTION:14.–15. Oktober 2026
DTSTART;VALUE=DATE;VALUE=DATE:20261013
LOCATION:Marriott Resort Palm Jumeirah\, Dubai\, Palm West Beach Palm - Jumeirah Road - Dubai - United Arab Emirates
SUMMARY:Domain Days Dubai 2026 - 14.–15. Oktober 2026
URL;VALUE=URI:https://www.consultdomain.de/events/domain-days-dubai-2026-14-15-oktober-2026.17/
END:VEVENT
BEGIN:VEVENT
UID:13
DTSTAMP:20260422T092705Z
DESCRIPTION:11.–12. November 2026
DTSTART;VALUE=DATE;VALUE=DATE:20261111
LOCATION:Ice Palace Studios\, North Miami Avenue\, Miami\, Florida\, USA
SUMMARY:NamesCon and CloudFest USA\, Miami\, USA
URL;VALUE=URI:https://www.consultdomain.de/events/namescon-and-cloudfest-usa-miami-usa.13/
END:VEVENT
BEGIN:VEVENT
UID:15
DTSTAMP:20260422T092705Z
DESCRIPTION:20. November 2026
DTSTART;VALUE=DATE;VALUE=DATE:20261119
LOCATION:Rennes\, France
SUMMARY:NDDCamp Rennes — 20. November 2026 (Rennes\, Frankreich)
URL;VALUE=URI:https://www.consultdomain.de/events/nddcamp-rennes-20-november-2026-rennes-frankreich.15/
END:VEVENT
BEGIN:VEVENT
UID:22
DTSTAMP:20260422T092705Z
DESCRIPTION:15.-18. März 2027
DTSTART;VALUE=DATE;VALUE=DATE:20270314
LOCATION:Europa-Park\, Europa-Park-Straße\, Rust\, Germany
SUMMARY:CloudFest 2027 - 15.-18. März 2027 - Europa-Park in Rust\, Deutschland
URL;VALUE=URI:https://www.consultdomain.de/events/cloudfest-2027-15-18-maerz-2027-europa-park-in-rust-deutschland.22/
END:VEVENT
END:VCALENDAR